Workbook

Sheet Biểu 06
A1: TTPTQĐ TỈNH QUẢNG NGÃI TTPTQĐ CNKV TƯ NGHĨA | N1: CỘNG HÒA XÃ HỘI CHỦ NGHĨA VIỆT NAM Độc lập - Tự do - Hạnh Phúc
A3: BẢNG KÊ CHI TIẾT DỰ KIẾN DIỆN TÍCH, LOẠI ĐẤT VÀ CHỦ SỬ DỤNG ĐẤT CỦA CÁC THỬA ĐẤT BỊ THU HỒI (ĐỢT 5) Dự án: Kè chống sạt lở sông Phước Giang, đoạn qua thị trấn Chợ Chùa Địa điểm: xã Nghĩa Hành, tỉnh Quảng Ngãi
T5: Biểu số: 06
A6: Số thư tự | B6: Chủ sử dụng | C6: Thông tin, số liệu bản đồ hiện trạng | J6: Thông tin, số liệu theo kiểm kê thực tế được UBND xã Nghĩa Hành xác nhận | U6: Ghi chú
C7: Tờ bản đồ GPMB | D7: Tờ bản đồ địa chính | E7: Số thửa | F7: Diện tích (m²) | I7: Loại đất | J7: Diện tích thu hồi (m²) | M7: Diện tích bồi thường, hỗ trợ (m²) | R7: Diện tích đất không bồi thường, hỗ trợ (m²) | S7: Mục đích sử dụng đất thu hồi | T7: Vị trí; khu vực
F8: Diện tích đo vẽ | G8: Diện tích quy hoạch | H8: Diện tích còn lại | J8: Trong quy hoạch | K8: Ngoài quy hoạch | L8: Tổng cộng | M8: Bồi thường về đất | P8: Hỗ trợ về đất
M9: Đất ở | N9: Đất nông nghiệp | O9: Tổng cộng | P9: Hỗ trợ chuyển đổi nghề và tìm kiếm việc làm | Q9: Hỗ trợ bằng 50% giá đất ở
A11: 1 | B11: 2 | C11: 3 | D11: 4 | E11: 5 | F11: 6 | G11: 7 | H11: 8=6-7 | I11: 9 | J11: 10 | K11: 11 | L11: 12=10+11 | M11: 13 | N11: 14 | O11: 15=13+14 | P11: 16 | Q11: 17 | R11: 18 | S11: 19 | T11: 20 | U11: 21
A12: 1 | B12: Ông Nguyễn Hoàng (Sinh năm: 1956; CCCD số: 051056004228) | C12: 2 | D12: 13 | E12: 228 | F12: 914.4 | G12: 137.1 | H12: =F12-G12 -> 777.3 | I12: ODT+HNK | J12: =G12 -> 137.1 | L12: =J12+K12 -> 137.1 | M12: 0 | N12: =J12 -> 137.1 | O12: =M12+N12 -> 137.1 | P12: =O12 -> 137.1 | Q12: 0 | R12: 0 | S12: HNK | T12: Đất HNK: VT2
A13: 2 | B13: Hộ ông Lâm Tấn Nghiệp (chết) con Lâm Tấn Đôn kê khai (Sinh năm: 1964; CCCD số: 051064012131) | C13: 1 | D13: 15 | E13: 82 | F13: 6995.6 | G13: 384.3 | H13: =F13-G13 -> 6611.3 | I13: ODT+HNK | J13: =G13 -> 384.3 | L13: =J13+K13 -> 384.3 | M13: 0 | N13: =J13 -> 384.3 | O13: =M13+N13 -> 384.3 | P13: 0 | Q13: =O13 -> 384.3 | R13: 0 | S13: HNK | T13: Đất HNK: VT2
A14: 3 | B14: Ông Lê Hữu Nghĩa. (Sinh năm: 20/2/1970. Số CCCD: 051070028134) | C14: 2 | D14: 13 | E14: ='[1]Biểu 6'!$E$15 -> 497 | F14: ='[1]Biểu 6'!$F$15 -> 340.3 | G14: ='[1]Biểu 6'!$G$15 -> 46.7 | H14: =F14-G14 -> 293.6 | I14: ODT+CLN | J14: =G14 -> 46.7 | L14: =J14+K14 -> 46.7 | N14: =J14 -> 46.7 | O14: =M14+N14 -> 46.7 | Q14: =N14 -> 46.7 | S14: CLN | T14: Đất CLN: VT1
A15: 4 | B15: Hộ ông Lê Thơm (chết) con Lê Hữu Nghĩa kê khai (Sinh năm: 20/2/1970. Số CCCD: 051070028134) | C15: ='[1]Biểu 6'!$C$16 -> 2 | D15: ='[1]Biểu 6'!$D$16 -> 13 | E15: ='[1]Biểu 6'!$E$16 -> 498 | F15: ='[1]Biểu 6'!$F$16 -> 714.9 | G15: ='[1]Biểu 6'!$G$16 -> 103.9 | H15: =F15-G15 -> 611 | I15: ='[1]Biểu 6'!$I$16 -> ODT+CLN | J15: =G15 -> 103.9 | L15: =J15 -> 103.9 | N15: =L15 -> 103.9 | O15: =M15+N15 -> 103.9 | Q15: =O15 -> 103.9 | S15: CLN | T15: =T14 -> Đất CLN: VT1
A16: 5 | B16: Hộ bà Trần Thị Cúc | C16: 2 | D16: 12 | E16: 292 | F16: 937.4 | G16: 273.3 | H16: =F16-G16 -> 664.1 | I16: ODT+HNK | J16: =G16 -> 273.3 | L16: =J16+K16 -> 273.3 | N16: 273.3 | O16: =M16+N16 -> 273.3 | P16: =O16 -> 273.3 | S16: HNK | T16: Đất ở: KV4, VT8 Đất HNK: VT1
A17: 6 | B17: Hộ bà Trần Thị Phận (Sinh năm: 1951; CCCD số:051151003888) | C17: 2 | D17: 13 | E17: 299 | F17: 1011.5 | G17: 308.8 | H17: =F17-G17 -> 702.7 | I17: HNK | J17: =G17 -> 308.8 | L17: =J17+K17 -> 308.8 | N17: =L17 -> 308.8 | O17: =L17 -> 308.8 | P17: =O17 -> 308.8 | S17: HNK | T17: Vị trí 2
B18: Tổng cộng: | F18: =SUM(F12:F17) -> 10914.1 | G18: =SUM(G12:G17) -> 1254.1 | H18: =SUM(H12:H17) -> 9660 | J18: =SUM(J12:J17) -> 1254.1 | L18: =SUM(L12:L17) -> 1254.1 | N18: =SUM(N12:N17) -> 1254.1 | O18: =SUM(O12:O17) -> 1254.1 | P18: =SUM(P12:P17) -> 719.2 | Q18: =SUM(Q12:Q17) -> 534.9
A21: Người lập | H21: Người Kiểm tra | Q21: Tư Nghĩa, ngày tháng 10 năm 2026
Q22: KT GIÁM ĐỐC
Q23: PHÓ GIÁM ĐỐC
A28: Ngô Thanh Thuyền | H28: Lê Thành Tâm | Q28: Đinh Văn Ninh

Sheet Biểu 10
A1: TTPTQĐ TỈNH QUẢNG NGÃI TTPTQĐ CNKV TƯ NGHĨA | O1: CỘNG HÒA XÃ HỘI CHỦ NGHĨA VIỆT NAM Độc lập - Tự do - Hạnh Phúc
A3: BẢNG TÍNH CHI TIẾT DỰ KIẾN GIÁ TRỊ BỒI THƯỜNG, HỖ TRỢ VỀ ĐẤT CỦA HỘ GIA ĐÌNH, CÁ NHÂN (ĐỢT 5) Dự án: Kè chống sạt lở sông Phước Giang, đoạn qua thị trấn Chợ Chùa Địa điểm: Xã Nghĩa Hành, tỉnh Quảng Ngãi
U4: Biểu số: 10
A5: Số thứ tự | B5: Họ và tên | C5: Tờ bản đồ GPMB | D5: Tờ bản đồ địa chính | E5: Số thửa | F5: Diện tích thửa (m²) | G5: Diện tích thu hồi, bồi thường, hỗ trợ (m²) | J5: Loại đất | K5: Khu vực, vị trí | L5: Bồi thường về đất | Q5: Hỗ trợ về đất | V5: Tổng chi phí bồi thường, hỗ trợ (đồng)
G6: Trong quy hoạch | H6: Ngoài quy hoạch | I6: Tổng cộng | L6: Diện tích (m²) | N6: Tỷ lệ bồi thường (%) | O6: Đơn giá (đồng) | P6: Thành tiền (đồng) | Q6: Diện tích (m²) | R6: Đơn giá theo bản giá đất (đồng) | S6: Mức hỗ trợ (05 lần giá đất nông nghiệp) | T6: Hỗ trợ bằng 50% giá đất ở | U6: Thành tiền (đồng)
L7: Đất ODT | M7: Đất nông nghiệp | W7: Đơn giá đất
A8: 1 | B8: 2 | C8: 3 | D8: 4 | E8: 5 | F8: 6 | G8: 7 | H8: 8 | I8: 9 | J8: 10 | K8: 11 | L8: 12 | M8: 13 | N8: 14 | O8: 15 | P8: 16=(12+13)*14*15 | Q8: 17 | R8: 18 | S8: 19 | U8: 20=17*19 | V8: 21=16+20 | W8: 68658 | X8: HNK
A9: 1 | B9: ='Biểu 06'!B12 -> Ông Nguyễn Hoàng (Sinh năm: 1956; CCCD số: 051056004228) | F9: =F10 -> 914.4 | G9: =G10 -> 137.1 | H9: 0 | I9: =I10 -> 137.1 | L9: 0 | M9: =M10 -> 137.1 | P9: =P10 -> 9048600 | U9: =U10 -> 45243000 | V9: =P9+U9 -> 54291600 | W9: 66000 | X9: VT2
C10: ='Biểu 06'!C12 -> 2 | D10: ='Biểu 06'!D12 -> 13 | E10: ='Biểu 06'!E12 -> 228 | F10: ='Biểu 06'!F12 -> 914.4 | G10: ='Biểu 06'!G12 -> 137.1 | H10: 0 | I10: =G10+H10 -> 137.1 | J10: ='Biểu 06'!I12 -> ODT+HNK | K10: ='Biểu 06'!T12 -> Đất HNK: VT2 | L10: 0 | M10: ='Biểu 06'!N12 -> 137.1 | N10: 1 | O10: 66000 | P10: =ROUND(PRODUCT(M10*N10*O10),0) -> 9048600 | Q10: =M10 -> 137.1 | R10: 66000 | S10: 5 | U10: =PRODUCT(Q10:T10) -> 45243000 | W10: 85052 | X10: CLN
A12: 2 | B12: ='Biểu 06'!B13 -> Hộ ông Lâm Tấn Nghiệp (chết) con Lâm Tấn Đôn kê khai (Sinh năm: 1964; CCCD số: 051064012131) | F12: =F13 -> 6995.6 | G12: =G13 -> 384.3 | H12: 0 | I12: =I13 -> 384.3 | L12: =L13 -> 0 | M12: =M13 -> 384.3 | P12: =P13 -> 25363800 | U12: =U13 -> 126819000 | V12: =P12+U12 -> 152182800
C13: ='Biểu 06'!C13 -> 1 | D13: ='Biểu 06'!D13 -> 15 | E13: ='Biểu 06'!E13 -> 82 | F13: ='Biểu 06'!F13 -> 6995.6 | G13: ='Biểu 06'!G13 -> 384.3 | H13: 0 | I13: =G13+H13 -> 384.3 | J13: ='Biểu 06'!I13 -> ODT+HNK | K13: ='Biểu 06'!T13 -> Đất HNK: VT2 | L13: 0 | M13: =I13 -> 384.3 | N13: 1 | O13: 66000 | P13: =ROUND(PRODUCT(M13*N13*O13),0) -> 25363800 | Q13: =M13 -> 384.3 | R13: 66000 | S13: 5 | U13: =PRODUCT(Q13:T13) -> 126819000
A15: 4 | B15: ='Biểu 06'!B14 -> Ông Lê Hữu Nghĩa. (Sinh năm: 20/2/1970. Số CCCD: 051070028134) | F15: =F16 -> 340.3 | G15: =G16 -> 46.7 | H15: 0 | I15: =I16 -> 46.7 | L15: =L16 -> 0 | M15: =M16 -> 46.7 | P15: =P16 -> 3971928 | U15: =U16 -> 67248000 | V15: =P15+U15 -> 71219928
C16: ='Biểu 06'!C14 -> 2 | D16: ='Biểu 06'!D14 -> 13 | E16: ='Biểu 06'!E14 -> 497 | F16: ='Biểu 06'!F14 -> 340.3 | G16: ='Biểu 06'!G14 -> 46.7 | H16: 0 | I16: =G16+H16 -> 46.7 | J16: ='Biểu 06'!I14 -> ODT+CLN | K16: ='Biểu 06'!T14 -> Đất CLN: VT1 | L16: 0 | M16: =I16 -> 46.7 | N16: 1 | O16: 85052 | P16: =ROUND(PRODUCT(M16*N16*O16),0) -> 3971928 | Q16: =M16 -> 46.7 | R16: 2880000 | T16: 0.5 | U16: =ROUND(PRODUCT(Q16:T16),0) -> 67248000
A18: 5 | B18: ='Biểu 06'!B15 -> Hộ ông Lê Thơm (chết) con Lê Hữu Nghĩa kê khai (Sinh năm: 20/2/1970. Số CCCD: 051070028134) | F18: =F19 -> 714.9 | G18: =G19 -> 103.9 | H18: 0 | I18: =I19 -> 103.9 | L18: =L19 -> 0 | M18: =M19 -> 103.9 | P18: =P19 -> 8836903 | U18: =U19 -> 149616000 | V18: =P18+U18 -> 158452903
C19: ='Biểu 06'!C15 -> 2 | D19: ='Biểu 06'!D15 -> 13 | E19: ='Biểu 06'!E15 -> 498 | F19: ='Biểu 06'!F15 -> 714.9 | G19: ='Biểu 06'!G15 -> 103.9 | H19: 0 | I19: =G19+H19 -> 103.9 | J19: ='Biểu 06'!I15 -> ODT+CLN | K19: ='Biểu 06'!T15 -> Đất CLN: VT1 | L19: 0 | M19: =I19 -> 103.9 | N19: 1 | O19: 85052 | P19: =ROUND(PRODUCT(M19*N19*O19),0) -> 8836903 | Q19: =M19 -> 103.9 | R19: 2880000 | T19: 0.5 | U19: =ROUND(PRODUCT(Q19:T19),0) -> 149616000
A21: 6 | B21: ='Biểu 06'!B16 -> Hộ bà Trần Thị Cúc | F21: =F22 -> 937.4 | G21: =G22 -> 273.3 | H21: 0 | I21: =I22 -> 273.3 | L21: =L22 -> 0 | M21: =M22 -> 273.3 | P21: =P22 -> 18923565 | U21: =U22 -> 94288500 | V21: =P21+U21 -> 113212065
C22: ='Biểu 06'!C16 -> 2 | D22: ='Biểu 06'!D16 -> 12 | E22: ='Biểu 06'!E16 -> 292 | F22: ='Biểu 06'!F16 -> 937.4 | G22: ='Biểu 06'!G16 -> 273.3 | H22: 0 | I22: =G22+H22 -> 273.3 | J22: ='Biểu 06'!I16 -> ODT+HNK | K22: ='Biểu 06'!T16 -> Đất ở: KV4, VT8 Đất HNK: VT1 | L22: 0 | M22: =I22 -> 273.3 | N22: 1 | O22: 69241 | P22: =ROUND(PRODUCT(M22*N22*O22),0) -> 18923565 | Q22: =M22 -> 273.3 | R22: 69000 | S22: 5 | U22: =ROUND(PRODUCT(Q22:T22),0) -> 94288500
A24: 8 | B24: ='Biểu 06'!B17 -> Hộ bà Trần Thị Phận (Sinh năm: 1951; CCCD số:051151003888) | F24: =F25 -> 1011.5 | G24: =G25 -> 308.8 | H24: 0 | I24: =I25 -> 308.8 | L24: =L25 -> 0 | M24: =M25 -> 308.8 | P24: =P25 -> 21201590 | U24: =U25 -> 101904000 | V24: =P24+U24 -> 123105590
C25: ='Biểu 06'!C17 -> 2 | D25: ='Biểu 06'!D17 -> 13 | E25: ='Biểu 06'!E17 -> 299 | F25: ='Biểu 06'!F17 -> 1011.5 | G25: ='Biểu 06'!G17 -> 308.8 | H25: 0 | I25: =G25+H25 -> 308.8 | J25: ='Biểu 06'!I19 -> 0 | K25: ='Biểu 06'!T17 -> Vị trí 2 | L25: 0 | M25: =I25 -> 308.8 | N25: 1 | O25: 68658 | P25: =ROUND(PRODUCT(M25*N25*O25),0) -> 21201590 | Q25: =M25 -> 308.8 | R25: 66000 | S25: 5 | U25: =ROUND(PRODUCT(Q25:T25),0) -> 101904000
B27: Tổng cộng: | F27: =SUM(F9:F26)/2 -> 10914.1 | G27: =SUM(G9:G26)/2 -> 1254.1 | H27: =SUM(H9:H26)/2 -> 0 | I27: =SUM(I9:I26)/2 -> 1254.1 | L27: =SUM(L9:L26)/2 -> 0 | M27: =SUM(M9:M26)/2 -> 1254.1 | P27: =SUM(P9:P26)/2 -> 87346386 | Q27: =SUM(Q9:Q26) -> 1254.1 | U27: =SUM(U9:U26)/2 -> 585118500 | V27: =ROUND(SUM(V9:V26),0) -> 672464886
S29: Tư Nghĩa, ngày tháng 10 năm 2026
B30: Người lập | K30: Người Kiểm tra | S30: KT GIÁM ĐỐC
S31: PHÓ GIÁM ĐỐC
B37: Lê Thị Lệ | K37: Ngô Thanh Thuyền | S37: Đinh Văn Ninh

Sheet Biểu 11
A1: TTPTQĐ TỈNH QUẢNG NGÃI TTPTQĐ CNKV TƯ NGHĨA | J1: CỘNG HÒA XÃ HỘI CHỦ NGHĨA VIỆT NAM Độc lập - Tự do - Hạnh Phúc
A3: BẢNG TÍNH DỰ KIẾN GIÁ TRỊ BỒI THƯỜNG, HỖ TRỢ VỀ NHÀ, VẬT KIẾN TRÚC, CÔNG TRÌNH PHỤC VỤ ĐỜI SỐNG, SẢN XUẤT VÀ CÔNG TRÌNH KHÁC CỦA HỘ GIA ĐÌNH, CÁ NHÂN (Đợt 5) Dự án: Kè chống sạt lở sông Phước Giang, đoạn qua thị trấn Chợ Chùa Địa điểm: Xã Nghĩa Hành, tỉnh Quảng Ngãi
N4: Biểu số: 11
A5: TT | B5: Họ và tên chủ hộ | C5: Tờ bản đồ GPMB | D5: Số thửa | E5: Diện tích thu hồi | F5: Loại đất (thu hồi) | G5: Hạng mục | H5: Đơn vị tính | I5: Khối lượng | J5: Năm xây dựng | K5: Bồi thường, hỗ trợ (%) | L5: Đơn giá | M5: Hệ số bù cước vận chuyển | N5: Thành tiền (đồng) | O5: Tổng cộng thành tiền (đồng)
A6: 1 | B6: 2 | C6: 3 | D6: 4 | E6: 5 | F6: 6 | G6: 7 | H6: 8 | I6: 9 | J6: 10 | K6: 11 | L6: 12 | M6: 13 | N6: 14=9*11*12*13 | O6: 15=14
A7: 1 | B7: ='Biểu 06'!B12 -> Ông Nguyễn Hoàng (Sinh năm: 1956; CCCD số: 051056004228) | O7: 0
C8: ='Biểu 06'!C12 -> 2 | D8: ='Biểu 06'!E12 -> 228 | E8: ='Biểu 06'!L12 -> 137.1 | F8: ='Biểu 06'!S12 -> HNK | G8: Không có công trình, vật kiến trúc trên đất
A10: 2 | B10: ='Biểu 06'!B13 -> Hộ ông Lâm Tấn Nghiệp (chết) con Lâm Tấn Đôn kê khai (Sinh năm: 1964; CCCD số: 051064012131) | O10: 0
C11: ='Biểu 06'!C13 -> 1 | D11: ='Biểu 06'!E13 -> 82 | E11: ='Biểu 06'!L13 -> 384.3 | F11: ='Biểu 06'!S13 -> HNK | G11: Không có công trình, vật kiến trúc trên đất
A13: 3 | B13: ='Biểu 06'!B14 -> Ông Lê Hữu Nghĩa. (Sinh năm: 20/2/1970. Số CCCD: 051070028134) | N13: =N14 -> 1188857 | O13: =N13 -> 1188857
C14: ='Biểu 06'!C14 -> 2 | D14: ='Biểu 06'!E14 -> 497 | E14: ='Biểu 06'!L14 -> 46.7 | F14: ='Biểu 06'!S14 -> CLN | G14: Giếng đóng bằng ống PVC đường kính 40mm, chiều sâu >8m nhỏ hơn 12m: Chiều sâu 12m | H14: md | I14: 12 | J14: 2008 | K14: 0.6 | L14: 163000 | M14: 1.013 | N14: =ROUND(I14*K14*L14*M14,0) -> 1188857
A16: 4 | B16: ='Biểu 06'!B15 -> Hộ ông Lê Thơm (chết) con Lê Hữu Nghĩa kê khai (Sinh năm: 20/2/1970. Số CCCD: 051070028134) | O16: 0
C17: ='Biểu 06'!C15 -> 2 | D17: ='Biểu 06'!E15 -> 498 | E17: ='Biểu 06'!L15 -> 103.9 | F17: CLN | G17: Không có công trình, vật kiến trúc trên đất
A19: 5 | B19: ='Biểu 06'!B16 -> Hộ bà Trần Thị Cúc | O19: 0
C20: ='Biểu 06'!C16 -> 2 | D20: ='Biểu 06'!E16 -> 292 | E20: ='Biểu 06'!L16 -> 273.3 | F20: ='Biểu 06'!S19 -> 0 | G20: Không có công trình, vật kiến trúc trên đất
A22: 6 | B22: ='Biểu 06'!B17 -> Hộ bà Trần Thị Phận (Sinh năm: 1951; CCCD số:051151003888) | O22: 0
C23: ='Biểu 06'!C17 -> 2 | D23: ='Biểu 06'!E17 -> 299 | E23: ='Biểu 06'!L17 -> 308.8 | F23: ='Biểu 06'!S17 -> HNK | G23: Không có công trình, vật kiến trúc trên đất
B25: Tổng cộng: | E25: =SUM(E7:E24) -> 1254.1 | N25: =SUM(N7:N24)/2 -> 1188857 | O25: =SUM(O7:O13) -> 1188857
K28: Tư Nghĩa, ngày tháng 10 năm 2026
B29: Người lập | D29: Người Kiểm tra | K29: KT GIÁM ĐỐC
K30: PHÓ GIÁM ĐỐC
B35: Lê Thị Lệ | D35: Ngô Thanh Thuyền | K35: Đinh Văn Ninh

Sheet Biểu 12
A1: TTPTQĐ TỈNH QUẢNG NGÃI TTPTQĐ CNKV TƯ NGHĨA | J1: CỘNG HÒA XÃ HỘI CHỦ NGHĨA VIỆT NAM Độc lập - Tự do - Hạnh Phúc
A2: BẢNG TÍNH CHI TIẾT DỰ KIẾN GIÁ TRỊ BỒI THƯỜNG, HỖ TRỢ CÂY TRỒNG TỔ CHỨC, HỘ GIA ĐÌNH, CÁ NHÂN (ĐỢT 5) Dự án: Kè chống sạt lở sông Phước Giang, đoạn qua thị trấn Chợ Chùa Địa điểm: Xã Nghĩa Hành, tỉnh Quảng Ngãi
N3: Biểu số: 12
A4: STT | B4: Số liệu kiểm kê, đo đạc thực tế được UBND xã Nghĩa Hành xác nhận | I4: Số lượng được bồi thường, hỗ trợ theo quy định | O4: Ghi chú
B5: Họ và tên | C5: Chủng loại, quy cách cây trồng | D5: Đơn vị tính | E5: Số lượng | F5: Tờ bản đồ địa chính | G5: Tờ bản đồ GPMB | H5: Số thửa | I5: Đơn vị tính | J5: Số lượng | K5: Bồi thường, hỗ trợ (%) | L5: Đơn giá (đồng) | M5: Thành tiền (đồng) | N5: Tổng cộng (đồng)
A7: 1 | B7: 2 | C7: 3 | D7: 4 | E7: 5 | F7: 6 | G7: 7 | H7: 8 | I7: 9 | J7: 10 | K7: 11 | L7: 12 | M7: 13 | N7: 14 | O7: 15
A8: 1 | B8: Ông Nguyễn Hoàng (Sinh năm: 1956; CCCD số: 051056004228) | F8: 13 | G8: 2 | H8: 228 | M8: =SUM(M9:M23) -> 12447900 | N8: =M8 -> 12447900
C9: Bưởi: Cây chưa cho quả | D9: cây | E9: 1 | I9: cây | J9: =E9 -> 1 | K9: 0.3 | L9: 100000 | M9: =PRODUCT(J9:L9) -> 30000
C10: Mít: Cây có đường kính gốc < 20cm, đã cho quả | D10: cây | E10: 4 | I10: cây | J10: =E10 -> 4 | K10: 0.3 | L10: 300000 | M10: =PRODUCT(J10:L10) -> 360000
C11: Khế: Cây chưa cho quả | D11: cây | E11: 11 | I11: cây | J11: =E11 -> 11 | K11: 0.3 | L11: 30000 | M11: =PRODUCT(J11:L11) -> 99000
C12: Khế: Cây đã cho quả | D12: cây | E12: 1 | I12: cây | J12: =E12 -> 1 | K12: 0.3 | L12: 80000 | M12: =PRODUCT(J12:L12) -> 24000
C13: Vú sữa: Cây có chiều cao thân cây ≥ lm, đường kính gốc 3 đến < 5cm, chưa cho quả | D13: cây | E13: 1 | I13: cây | J13: =E13 -> 1 | K13: 0.3 | L13: 140000 | M13: =PRODUCT(J13:L13) -> 42000
C14: Nhãn: Cây mới trồng | D14: cây | E14: 2 | I14: cây | J14: =E14 -> 2 | K14: 0.3 | L14: 20000 | M14: =PRODUCT(J14:L14) -> 12000
C15: Cau: Cây đã cho quả | D15: cây | E15: 4 | I15: cây | J15: =E15 -> 4 | K15: 0.3 | L15: 400000 | M15: =PRODUCT(J15:L15) -> 480000
C16: Cau: Cây có chiều cao thân ≥ 2m, chưa cho quả | D16: cây | E16: 3 | I16: cây | J16: =E16 -> 3 | K16: 0.3 | L16: 200000 | M16: =PRODUCT(J16:L16) -> 180000
C17: Cây cỏ các loại | D17: m² | E17: 36 | I17: =D17 -> m² | J17: =E17 -> 36 | K17: 1 | L17: 3400 | M17: =PRODUCT(J17:L17) -> 122400
C18: Đu đủ: cây mới trồng | D18: cây | E18: 1 | I18: cây | J18: =E18 -> 1 | K18: 1 | L18: 15000 | M18: =PRODUCT(J18:L18) -> 15000
C19: Chuối: Cây ra hoa(bắp chuối) cho quả | D19: cây | E19: 30 | I19: =D19 -> cây | J19: =E19 -> 30 | K19: 1 | L19: 162000 | M19: =PRODUCT(J19:L19) -> 4860000
C20: Chuối: Cây con đến chưa cho quả | D20: cây | E20: 79 | I20: =D20 -> cây | J20: =E20 -> 79 | K20: 1 | L20: 42000 | M20: =PRODUCT(J20:L20) -> 3318000
C21: Dừa: Cây mới trồng | D21: cây | E21: 1 | I21: =D21 -> cây | J21: =E21 -> 1 | K21: 0.3 | L21: 85000 | M21: =PRODUCT(J21:L21) -> 25500
C22: Tre gai: Cây già sử dụng được | D22: cây | E22: 140 | I22: =D22 -> cây | J22: =E22 -> 140 | K22: 0.3 | L22: 60000 | M22: =PRODUCT(J22:L22) -> 2520000
C23: Tre gai: Cây xanh chưa già | D23: cây | E23: 30 | I23: cây | J23: =E23 -> 30 | K23: 0.3 | L23: 40000 | M23: =PRODUCT(J23:L23) -> 360000
A24: 2 | B24: ='Biểu 06'!B13 -> Hộ ông Lâm Tấn Nghiệp (chết) con Lâm Tấn Đôn kê khai (Sinh năm: 1964; CCCD số: 051064012131) | F24: 15 | G24: 1 | H24: 82 | M24: =ROUND(SUM(M25:M32),0) -> 7320000 | N24: =M24 -> 7320000
C25: Chôm chôm: Cây có đường kính gốc ≥ 45 cm, đã cho quả | D25: Cây | E25: 1 | I25: Cây | J25: =E25 -> 1 | K25: 0.3 | L25: 500000 | M25: =PRODUCT(J25:L25) -> 150000
C26: Mít: Cây có chiều cao thân cây ≥ 1 m, chưa cho quả | D26: Cây | E26: 1 | I26: Cây | J26: =E26 -> 1 | K26: 0.3 | L26: 150000 | M26: =PRODUCT(J26:L26) -> 45000
C27: Chuối: Cây con đến chưa cho quả | D27: Cây | E27: 37 | I27: Cây | J27: =E27 -> 37 | K27: 1 | L27: 42000 | M27: =PRODUCT(J27:L27) -> 1554000
C28: Tre gai: Cây xanh chưa già | D28: Cây | E28: 120 | I28: Cây | J28: =E28 -> 120 | K28: 0.3 | L28: 40000 | M28: =PRODUCT(J28:L28) -> 1440000
C29: Tre gai: Cây già sử dụng được | D29: Cây | E29: 225 | I29: Cây | J29: =E29 -> 225 | K29: 0.3 | L29: 60000 | M29: =PRODUCT(J29:L29) -> 4050000
C30: Lồng mức: Cây có đường kính gốc > lcm đến < 3cm | D30: Cây | E30: 2 | I30: Cây | J30: =E30 -> 2 | K30: 0.3 | L30: 10000 | M30: =PRODUCT(J30:L30) -> 6000
C31: Cây dứa (thơm, khóm): Cây chưa cho quả | D31: Bụi | E31: 4 | I31: Bụi | J31: =E31 -> 4 | K31: 1 | L31: 15000 | M31: =PRODUCT(J31:L31) -> 60000
C32: Chim chim: Cây có đường kính gốc >7cm đến <10cm | D32: Cây | E32: 2 | I32: Cây | J32: =E32 -> 2 | K32: 0.3 | L32: 25000 | M32: =PRODUCT(J32:L32) -> 15000
A33: 3 | B33: ='Biểu 06'!B14 -> Ông Lê Hữu Nghĩa. (Sinh năm: 20/2/1970. Số CCCD: 051070028134) | F33: ='Biểu 06'!D14 -> 13 | G33: ='Biểu 06'!C14 -> 2 | H33: ='Biểu 06'!E14 -> 497 | M33: =SUM(M34:M41) -> 16299000 | N33: =M33 -> 16299000
C34: =[2]Sheet1!$C$35 -> Cau Cây đã cho quả | D34: Cây | E34: 11 | I34: Cây | J34: =E34 -> 11 | K34: 1 | L34: 400000 | M34: =J34*K34*L34 -> 4400000
C35: =[2]Sheet1!$C$36 -> Cau Cây có chiều cao thân > 2m, chưa cho quả | D35: Cây | E35: 10 | I35: Cây | J35: =E35 -> 10 | K35: 1 | L35: 200000 | M35: =J35*K35*L35 -> 2000000
C36: =[2]Sheet1!$C$37 -> Cau Cây mới trồng có chiều cao thân < 0,5 m, chưa cho quả | D36: Cây | E36: 31 | I36: Cây | J36: =E36 -> 31 | K36: 1 | L36: 40000 | M36: =J36*K36*L36 -> 1240000
C37: =[2]Sheet1!$C$38 -> Chuối Cây ra hoa (bắp chuối), cho quả | D37: Cây | E37: 20 | I37: Cây | J37: =E37 -> 20 | K37: 1 | L37: 162000 | M37: =J37*K37*L37 -> 3240000
C38: =[2]Sheet1!$C$39 -> Chuối Cây con đến chưa cho quả | D38: Cây | E38: 27 | I38: Cây | J38: =E38 -> 27 | K38: 1 | L38: 42000 | M38: =J38*K38*L38 -> 1134000
C39: =[2]Sheet1!$C$40 -> Dừa Cây mới trồng | D39: Cây | E39: 1 | I39: Cây | J39: =E39 -> 1 | K39: 1 | L39: 85000 | M39: =J39*K39*L39 -> 85000
C40: =[2]Sheet1!$C$41 -> Tre gai Cây già sử dụng được | D40: Cây | E40: 50 | I40: Cây | J40: =E40 -> 50 | K40: 1 | L40: 60000 | M40: =J40*K40*L40 -> 3000000
C41: =[2]Sheet1!$C$42 -> Tre gai Cây xanh chưa già | D41: Cây | E41: 30 | I41: Cây | J41: =E41 -> 30 | K41: 1 | L41: 40000 | M41: =J41*K41*L41 -> 1200000
...

Sheet Biểu 13
A1: TTPTQĐ TỈNH QUẢNG NGÃI TTPTQĐ CNKV TƯ NGHĨA | J1: CỘNG HÒA XÃ HỘI CHỦ NGHĨA VIỆT NAM Độc lập - Tự do - Hạnh Phúc
A2: BẢNG TÍNH CHI TIẾT DỰ KIẾN CÁC KHOẢN HỖ TRỢ CỦA TỪNG HỘ GIA ĐÌNH, CÁ NHÂN (ĐỢT 5) Dự án: Kè chống sạt lở sông Phước Giang, đoạn qua thị trấn Chợ Chùa Địa điểm: Xã Nghĩa Hành, tỉnh Quảng Ngãi
A3: Biểu số: 13
A4: STT | B4: Chủ sử dụng | C4: Tỷ lệ mất đất nông nghiệp (%) | D4: Tổng số khẩu | F4: Hỗ trợ ổn định đời sống và ổn định sản xuất | L4: Thưởng tháo dỡ nhà, vật kiến trúc và bàn giao mặt bằng đúng tiến độ | M4: Múc hỗ trợ (kg/người/tháng) | N4: Đơn giá | O4: Tổng giá trị hỗ trợ (đồng) | P4: Ghi chú
E5: Tỷ lệ thu hồi đất nông nghiệp từ < 10% (1) | F5: Tỷ lệ thu hồi đất nông nghiệp từ 10% đến < 20% (2) | G5: Tỷ lệ thu hồi đất nông nghiệp từ 20% đến <30% (3) | H5: Tỷ lệ thu hồi đất nông nghiệp từ 30% đến 70% | J5: Tỷ lệ thu hồi đất nông nghiệp lớn hơn 70%
H6: Không di chuyển chỗ ở (6) | I6: Di chuyển chỗ ở (12) | J6: Không di chuyển chỗ ở (12) | K6: Di chuyển chỗ ở (24)
A7: 1 | B7: 2 | C7: 3 | D7: 4 | E7: 5 | F7: 6 | G7: 7 | H7: 8 | I7: 9 | J7: 10 | K7: 11 | L7: 12 | M7: 13 | N7: 14 | O7: 15 | P7: 16
A8: ='Biểu 06'!A12 -> 1 | B8: ='Biểu 06'!B12 -> Ông Nguyễn Hoàng (Sinh năm: 1956; CCCD số: 051056004228) | C8: 0.049 | D8: 6 | E8: 1 | M8: 30 | N8: 15864 | O8: =PRODUCT(D8:N8) -> 2855520
A9: ='Biểu 06'!A13 -> 2 | B9: ='Biểu 06'!B13 -> Hộ ông Lâm Tấn Nghiệp (chết) con Lâm Tấn Đôn kê khai (Sinh năm: 1964; CCCD số: 051064012131) | C9: 0.049 | D9: 2 | E9: 1 | M9: 30 | N9: =N8 -> 15864 | O9: =PRODUCT(D9:N9) -> 951840
A10: ='Biểu 06'!A14 -> 3 | B10: ='Biểu 06'!B14 -> Ông Lê Hữu Nghĩa. (Sinh năm: 20/2/1970. Số CCCD: 051070028134) | C10: 16.3 | D10: 4 | F10: 2 | M10: 30 | N10: =N9 -> 15864 | O10: =PRODUCT(D10:N10) -> 3807360
A11: ='Biểu 06'!A15 -> 4 | B11: ='Biểu 06'!B15 -> Hộ ông Lê Thơm (chết) con Lê Hữu Nghĩa kê khai (Sinh năm: 20/2/1970. Số CCCD: 051070028134) | C11: 6.8 | D11: 6 | E11: 1 | M11: 30 | N11: =N10 -> 15864 | O11: =PRODUCT(D11:N11) -> 2855520
A12: ='Biểu 06'!A16 -> 5 | B12: ='Biểu 06'!B16 -> Hộ bà Trần Thị Cúc | O12: 0 | P12: Đã tính hỗ trợ tại thửa 217 Phương án đợt 3
A13: ='Biểu 06'!A17 -> 6 | B13: ='Biểu 06'!B17 -> Hộ bà Trần Thị Phận (Sinh năm: 1951; CCCD số:051151003888) | C13: 12.2 | D13: 5 | F13: 2 | M13: 30 | N13: =N11 -> 15864 | O13: =PRODUCT(D13:N13) -> 4759200
B14: Tổng công: | O14: =SUM(O8:O13) -> 15229440
N16: Tư Nghĩa, ngày tháng 10 năm 2026
B17: Người lập | D17: Người Kiểm tra | N17: KT GIÁM ĐỐC
N18: PHÓ GIÁM ĐỐC
B24: Lê Thị Lệ | D24: Ngô Thanh Thuyền | N24: Đinh Văn Ninh

Sheet Biểu 14
A1: TTPTQĐ TỈNH QUẢNG NGÃI TTPTQĐ CNKV TƯ NGHĨA | F1: CỘNG HÒA XÃ HỘI CHỦ NGHĨA VIỆT NAM Độc lập - Tự do - Hạnh phúc
A2: BẢNG TỔNG HỢP DỰ KIẾN KINH PHÍ BỒI THƯỜNG, HỖ TRỢ (ĐỢT 5) Dự án: Kè chống sạt lở sông Phước Giang, đoạn qua thị trấn Chợ Chùa Địa điểm: Xã Nghĩa Hành, tỉnh Quảng Ngãi
I4: Biểu số: 14
A5: STT | B5: Số BB kiểm kê | C5: Họ và tên | D5: Diện tích đất thu hồi (m²) | G5: Bồi thường, hỗ trợ nhà, vật kiến trúc, công trình phục vụ đời sống, sản xuất, công trình khác và mồ mả | H5: Bồi thường cây trồng | I5: Các khoản hỗ trợ khác (Hỗ trợ ổn định đời sống…) | J5: Tổng cộng (đồng)
E6: Bồi thường | F6: Hỗ trợ chuyển đổi nghề và tìm kiếm việc làm; đất nông nghiệp cùng thửa đất ở có nhà ở
E7: Bồi thường về đất
A8: 1 | B8: 2 | C8: 3 | D8: 4 | E8: 6 | F8: 7 | G8: 8 | H8: 9 | I8: 10 | J8: 11
A9: 1 | C9: ='Biểu 06'!B12 -> Ông Nguyễn Hoàng (Sinh năm: 1956; CCCD số: 051056004228) | D9: ='Biểu 06'!L12 -> 137.1 | E9: ='Biểu 10'!P9 -> 9048600 | F9: ='Biểu 10'!U9 -> 45243000 | H9: ='Biểu 12'!N8 -> 12447900 | I9: ='Biểu 13'!O8 -> 2855520 | J9: =SUM(E9:I9) -> 69595020
A10: 2 | C10: ='Biểu 06'!B13 -> Hộ ông Lâm Tấn Nghiệp (chết) con Lâm Tấn Đôn kê khai (Sinh năm: 1964; CCCD số: 051064012131) | D10: ='Biểu 06'!L13 -> 384.3 | E10: ='Biểu 10'!P12 -> 25363800 | F10: ='Biểu 10'!U12 -> 126819000 | H10: ='Biểu 12'!N24 -> 7320000 | I10: ='Biểu 13'!O9 -> 951840 | J10: =SUM(E10:I10) -> 160454640
A11: 3 | C11: ='Biểu 06'!B14 -> Ông Lê Hữu Nghĩa. (Sinh năm: 20/2/1970. Số CCCD: 051070028134) | D11: ='Biểu 06'!L14 -> 46.7 | E11: ='Biểu 10'!P15 -> 3971928 | F11: ='Biểu 10'!U15 -> 67248000 | H11: ='Biểu 12'!N33 -> 16299000 | I11: ='Biểu 13'!O10 -> 3807360 | J11: =SUM(E11:I11) -> 91326288
A12: 4 | C12: ='Biểu 06'!B15 -> Hộ ông Lê Thơm (chết) con Lê Hữu Nghĩa kê khai (Sinh năm: 20/2/1970. Số CCCD: 051070028134) | D12: ='Biểu 06'!L15 -> 103.9 | E12: ='Biểu 10'!P18 -> 8836903 | F12: ='Biểu 10'!U18 -> 149616000 | H12: ='Biểu 12'!N42 -> 0 | I12: ='Biểu 13'!O11 -> 2855520 | J12: =SUM(E12:I12) -> 161308423
A13: 5 | C13: ='Biểu 06'!B16 -> Hộ bà Trần Thị Cúc | D13: ='Biểu 06'!L16 -> 273.3 | E13: ='Biểu 10'!P21 -> 18923565 | F13: ='Biểu 10'!U21 -> 94288500 | H13: ='Biểu 12'!N44 -> 3332100 | I13: ='Biểu 13'!O12 -> 0 | J13: =SUM(E13:I13) -> 116544165
A14: 6 | C14: ='Biểu 06'!B17 -> Hộ bà Trần Thị Phận (Sinh năm: 1951; CCCD số:051151003888) | D14: ='Biểu 06'!L17 -> 308.8 | E14: ='Biểu 10'!P24 -> 21201590 | F14: ='Biểu 10'!U24 -> 101904000 | H14: ='Biểu 12'!N57 -> 11559000 | I14: ='Biểu 13'!O13 -> 4759200 | J14: =SUM(E14:I14) -> 139423790
B15: TỔNG CÔNG: | D15: =SUM(D9:D14) -> 1254.1 | E15: =SUM(E9:E14) -> 87346386 | F15: =SUM(F9:F14) -> 585118500 | H15: =SUM(H9:H14) -> 50958000 | I15: =SUM(I9:I14) -> 15229440 | J15: =SUM(E15:I15) -> 738652326 | K15: =SUM(J9:J14) -> 738652326
I17: Tư Nghĩa, ngày tháng 10 năm 2026
B18: Người lập | D18: Người Kiểm tra | I18: KT GIÁM ĐỐC | N18: =J15-#REF!-#REF! -> #REF!
I19: PHÓ GIÁM ĐỐC
B26: Lê Thị Lệ | D26: Ngô Thanh Thuyền | I26: Đinh Văn Ninh
